BEGIN:VCALENDAR
VERSION:2.0
PRODID:-//Ástjarnarkirkja - ECPv6.15.20//NONSGML v1.0//EN
CALSCALE:GREGORIAN
METHOD:PUBLISH
X-WR-CALNAME:Ástjarnarkirkja
X-ORIGINAL-URL:https://astjarnarkirkja.is
X-WR-CALDESC:Events for Ástjarnarkirkja
REFRESH-INTERVAL;VALUE=DURATION:PT1H
X-Robots-Tag:noindex
X-PUBLISHED-TTL:PT1H
BEGIN:VTIMEZONE
TZID:UTC
BEGIN:STANDARD
TZOFFSETFROM:+0000
TZOFFSETTO:+0000
TZNAME:UTC
DTSTART:20220101T000000
END:STANDARD
END:VTIMEZONE
BEGIN:VEVENT
DTSTART;TZID=UTC:20230906T100000
DTEND;TZID=UTC:20230906T120000
DTSTAMP:20260420T082525
CREATED:20230906T173931Z
LAST-MODIFIED:20230906T173940Z
UID:27440-1693994400-1694001600@astjarnarkirkja.is
SUMMARY:Alþjóðlegir foreldramorgnar
DESCRIPTION:Opið hús í kirkjunni fyrir börn og foreldra af erlendum uppruna sem vegna aðstæðna hafa þurft að yfirgefa heimalandið. Þá eru innlendum foreldrum og börnum úr hverfinu tekið fagnandi því það er lærdómsríkt fyrir alla aðila að spjalla og eiga samfélag í hlýlegu og vinsamlegu umhverfi hverfiskirkjunnar.\nOpen house for families with children in Ástjarnarkirkja – Open house o jornada de puertas abiertas para familias e hijos en la iglesia de Ástjarnarkirkja.
URL:https://astjarnarkirkja.is/event/althjodlegir-foreldramorgnar/
LOCATION:Ástjarnarkirkja\, Kirkjuvellir 1\, Hafnarfjörður\, 221\, Iceland
CATEGORIES:Barnastarf,Foreldrastarf
ATTACH;FMTTYPE=image/jpeg:https://astjarnarkirkja.is/wp-content/uploads/2016/09/kids-church-clip-art-kids20church.jpg
ORGANIZER;CN="%C3%81stjarnarkirkja":MAILTO:astjarnarkirkja@astjarnarkirkja.is
END:VEVENT
BEGIN:VEVENT
DTSTART;TZID=UTC:20240110T100000
DTEND;TZID=UTC:20240110T120000
DTSTAMP:20260420T082525
CREATED:20231217T231845Z
LAST-MODIFIED:20231217T231922Z
UID:27644-1704880800-1704888000@astjarnarkirkja.is
SUMMARY:Alþjóðlegir foreldramorgnar
DESCRIPTION:Opið hús í kirkjunni fyrir börn og foreldra af erlendum uppruna sem vegna aðstæðna hafa þurft að yfirgefa heimalandið. Þá eru innlendum foreldrum og börnum úr hverfinu tekið fagnandi því það er lærdómsríkt fyrir alla aðila að spjalla og eiga samfélag í hlýlegu og vinsamlegu umhverfi hverfiskirkjunnar.\nOpen house for families with children in Ástjarnarkirkja – Open house o jornada de puertas abiertas para familias e hijos en la iglesia de Ástjarnarkirkja.
URL:https://astjarnarkirkja.is/event/althjodlegir-foreldramorgnar-2/
LOCATION:Ástjarnarkirkja\, Kirkjuvellir 1\, Hafnarfjörður\, 221\, Iceland
CATEGORIES:Barnastarf,Foreldrastarf
ATTACH;FMTTYPE=image/jpeg:https://astjarnarkirkja.is/wp-content/uploads/2016/09/kids-church-clip-art-kids20church.jpg
ORGANIZER;CN="%C3%81stjarnarkirkja":MAILTO:astjarnarkirkja@astjarnarkirkja.is
END:VEVENT
BEGIN:VEVENT
DTSTART;TZID=UTC:20240110T161500
DTEND;TZID=UTC:20240110T170000
DTSTAMP:20260420T082525
CREATED:20231218T200301Z
LAST-MODIFIED:20240917T172355Z
UID:27674-1704903300-1704906000@astjarnarkirkja.is
SUMMARY:Krakkatónar 2. - 5. ára
DESCRIPTION:Tónlistarnámskeið fyrir 2-5 ára í fylgd með foreldri/forráðamanneskju: söng- og tónlistarsamvera þar sem börnin læra sálma og ýmis önnur lög\, taktskyn örvað með leikjum og hlustun og ævintýraheimur tónlistarinnar kannaður.
URL:https://astjarnarkirkja.is/event/krakkatonar-3/
LOCATION:Ástjarnarkirkja\, Kirkjuvellir 1\, Hafnarfjörður\, 221\, Iceland
CATEGORIES:Barnastarf,Tónlist
ATTACH;FMTTYPE=image/png:https://astjarnarkirkja.is/wp-content/uploads/2016/09/children-singing-clipart.png
ORGANIZER;CN="%C3%81stjarnarkirkja":MAILTO:astjarnarkirkja@astjarnarkirkja.is
END:VEVENT
END:VCALENDAR